BEGIN:VCALENDAR
VERSION:2.0
PRODID:-//GGTR - ECPv6.11.2//NONSGML v1.0//EN
CALSCALE:GREGORIAN
METHOD:PUBLISH
X-WR-CALNAME:GGTR
X-ORIGINAL-URL:https://gtrealtors.org
X-WR-CALDESC:Events for GGTR
REFRESH-INTERVAL;VALUE=DURATION:PT1H
X-Robots-Tag:noindex
X-PUBLISHED-TTL:PT1H
BEGIN:VTIMEZONE
TZID:America/Chicago
BEGIN:DAYLIGHT
TZOFFSETFROM:-0600
TZOFFSETTO:-0500
TZNAME:CDT
DTSTART:20260308T080000
END:DAYLIGHT
BEGIN:STANDARD
TZOFFSETFROM:-0500
TZOFFSETTO:-0600
TZNAME:CST
DTSTART:20261101T070000
END:STANDARD
END:VTIMEZONE
BEGIN:VEVENT
DTSTART;TZID=America/Chicago:20261012T080000
DTEND;TZID=America/Chicago:20261015T170000
DTSTAMP:20260422T034916
CREATED:20260102T201343Z
LAST-MODIFIED:20260102T201343Z
UID:1015-1791792000-1792083600@gtrealtors.org
SUMMARY:ASSOCIATION OFFICE WILL BE CLOSED TO ATTEND CONVENTION
DESCRIPTION:
URL:https://gtrealtors.org/event/association-office-will-be-closed-to-attend-convention/
LOCATION:MS
END:VEVENT
BEGIN:VEVENT
DTSTART;TZID=America/Chicago:20261013T080000
DTEND;TZID=America/Chicago:20261013T170000
DTSTAMP:20260422T034916
CREATED:20260102T201031Z
LAST-MODIFIED:20260102T201031Z
UID:1011-1791878400-1791910800@gtrealtors.org
SUMMARY:MAR Board of Directors Meeting
DESCRIPTION:The Grand Hotel\, One Grand Boulevard\, Point Clear\, AL 36564\n \nFor more information visit:\n\nhttps://msrealtors.org/\n\n 
URL:https://gtrealtors.org/event/mar-board-of-directors-meeting-5/
LOCATION:The Grand Hotel\, Point Clear\, AL\, One Grand Boulevard\, Point Clear\, AL\, 36564\, United States
END:VEVENT
BEGIN:VEVENT
DTSTART;TZID=America/Chicago:20261013T080000
DTEND;TZID=America/Chicago:20261015T170000
DTSTAMP:20260422T034916
CREATED:20260102T201253Z
LAST-MODIFIED:20260102T201253Z
UID:1013-1791878400-1792083600@gtrealtors.org
SUMMARY:MS REALTORS® Convention & Expo
DESCRIPTION:Association office will be closed October 12 – 15 to attend convention.\n \nThe Grand Hotel\, One Grand Boulevard\, Point Clear\, AL 36564\n \nFor more information visit:\n\nhttps://msrealtors.org/
URL:https://gtrealtors.org/event/ms-realtors-convention-expo/
LOCATION:MS
END:VEVENT
BEGIN:VEVENT
DTSTART;TZID=America/Chicago:20261021T114500
DTEND;TZID=America/Chicago:20261021T130000
DTSTAMP:20260422T034916
CREATED:20260102T201506Z
LAST-MODIFIED:20260107T154755Z
UID:1017-1792583100-1792587600@gtrealtors.org
SUMMARY:Membership Luncheon (Lifetime Achievement Award)
DESCRIPTION:Come join us!  We will be announcing the 2026 Lifetime Achievement Award Recipient.
URL:https://gtrealtors.org/event/membership-luncheon-lifetime-achievement-award/
LOCATION:Lion Hills Center\, 2331 Military Road\, Columbus\, MS\, 39705\, United States
END:VEVENT
END:VCALENDAR