BEGIN:VCALENDAR
VERSION:2.0
PRODID:-//GGTR - ECPv6.11.2//NONSGML v1.0//EN
CALSCALE:GREGORIAN
METHOD:PUBLISH
X-WR-CALNAME:GGTR
X-ORIGINAL-URL:https://gtrealtors.org
X-WR-CALDESC:Events for GGTR
REFRESH-INTERVAL;VALUE=DURATION:PT1H
X-Robots-Tag:noindex
X-PUBLISHED-TTL:PT1H
BEGIN:VTIMEZONE
TZID:America/Chicago
BEGIN:DAYLIGHT
TZOFFSETFROM:-0600
TZOFFSETTO:-0500
TZNAME:CDT
DTSTART:20260308T080000
END:DAYLIGHT
BEGIN:STANDARD
TZOFFSETFROM:-0500
TZOFFSETTO:-0600
TZNAME:CST
DTSTART:20261101T070000
END:STANDARD
END:VTIMEZONE
BEGIN:VEVENT
DTSTART;TZID=America/Chicago:20260305T080000
DTEND;TZID=America/Chicago:20260305T120000
DTSTAMP:20260419T165044
CREATED:20260220T182055Z
LAST-MODIFIED:20260220T210128Z
UID:1086-1772697600-1772712000@gtrealtors.org
SUMMARY:FREE CE FOR GGTR MEMBERS- AGENCY AND ELECTIVES
DESCRIPTION:FREE CE TO GGTR MEMBERS ON MARCH 5TH FROM 8AM – 12PM AT EMCC COMMUNIVERSITY\, 7003 SOUTH FRONTAGE RD\, COLUMBUS.  See flyer below.  Sponsored by:  Bobbi Roberts with Waynes Pest Control.  Breakfast will be provided. \nRisky Business:  8am – 10am (can be used as Electives or Agency) \nAgency: 10am – 12pm \nBE SURE TO REGISTER AT kderby@exceedtech.net or call 662.328.7800
URL:https://gtrealtors.org/event/free-ce-for-ggtr-members-agency-and-electives/
LOCATION:EMCC Communiversity\, 7003 South Frontage Road\, Columbus\, MS\, 39701\, United States
END:VEVENT
BEGIN:VEVENT
DTSTART;TZID=America/Chicago:20260326T120000
DTEND;TZID=America/Chicago:20260326T130000
DTSTAMP:20260419T165044
CREATED:20260227T200224Z
LAST-MODIFIED:20260325T144158Z
UID:1097-1774526400-1774530000@gtrealtors.org
SUMMARY:ROOKIE REALTOR® GROUP MEETING - Lunch provided and you might win a door prize!
DESCRIPTION:Come join us for the Rookie REALTOR® Group Meeting on March 26th\, NOON at Renasant Bank – Starkville. \nLunch provided and you might win a door prize! \nGuest Speaker will be Affiliate Member Chris Gipson with Home Warranty\, Inc.\nTopic will be Home Warranties:  How they work\, what they cover & other info.
URL:https://gtrealtors.org/event/rookie-realtor-group-meeting-lunch-provided-and-you-might-win-a-door-prize/
LOCATION:Renasant Bank – Starkville\, 500 East Lampkin Street\, Starkville\, 39759\, United States
END:VEVENT
END:VCALENDAR