BEGIN:VCALENDAR
VERSION:2.0
PRODID:-//GGTR - ECPv6.11.2//NONSGML v1.0//EN
CALSCALE:GREGORIAN
METHOD:PUBLISH
X-ORIGINAL-URL:https://gtrealtors.org
X-WR-CALDESC:Events for GGTR
REFRESH-INTERVAL;VALUE=DURATION:PT1H
X-Robots-Tag:noindex
X-PUBLISHED-TTL:PT1H
BEGIN:VTIMEZONE
TZID:America/Chicago
BEGIN:DAYLIGHT
TZOFFSETFROM:-0600
TZOFFSETTO:-0500
TZNAME:CDT
DTSTART:20260308T080000
END:DAYLIGHT
BEGIN:STANDARD
TZOFFSETFROM:-0500
TZOFFSETTO:-0600
TZNAME:CST
DTSTART:20261101T070000
END:STANDARD
END:VTIMEZONE
BEGIN:VEVENT
DTSTART;TZID=America/Chicago:20260604T180000
DTEND;TZID=America/Chicago:20260604T220000
DTSTAMP:20260422T172658
CREATED:20260420T165857Z
LAST-MODIFIED:20260420T165857Z
UID:1133-1780596000-1780610400@gtrealtors.org
SUMMARY:JUNE SOCIAL AND MARPAC DRAWDOWN
DESCRIPTION:June Social and MARPAC Drawdown will be on Thursday\, June 4\, 2026 so mark your calendar and start buying your tickets for a chance to win $3\,000.  See flyer below.  Scan QR Code to purchase tickets. \nMore information to follow regarding location and time.
URL:https://gtrealtors.org/event/june-social-and-marpac-drawdown/
LOCATION:MS
END:VEVENT
BEGIN:VEVENT
DTSTART;TZID=America/Chicago:20260609T080000
DTEND;TZID=America/Chicago:20260611T170000
DTSTAMP:20260422T172658
CREATED:20260102T193416Z
LAST-MODIFIED:20260102T194244Z
UID:987-1780992000-1781197200@gtrealtors.org
SUMMARY:MAR Summer Committee Meetings
DESCRIPTION:More information to come.
URL:https://gtrealtors.org/event/mar-summer-committee-meetings-2/
LOCATION:Mississippi Association of REALTORS®\, 4274 Lakeland Drive\, Flowood\, MS\, 39232\, United States
END:VEVENT
BEGIN:VEVENT
DTSTART;TZID=America/Chicago:20260611T080000
DTEND;TZID=America/Chicago:20260611T170000
DTSTAMP:20260422T172658
CREATED:20260102T194405Z
LAST-MODIFIED:20260102T194405Z
UID:990-1781164800-1781197200@gtrealtors.org
SUMMARY:MAR Broker Summit
DESCRIPTION:More information to come.
URL:https://gtrealtors.org/event/mar-broker-summit/
LOCATION:Mississippi Association of REALTORS®\, 4274 Lakeland Drive\, Flowood\, MS\, 39232\, United States
END:VEVENT
BEGIN:VEVENT
DTSTART;TZID=America/Chicago:20260613T080000
DTEND;TZID=America/Chicago:20260618T170000
DTSTAMP:20260422T172658
CREATED:20260102T195357Z
LAST-MODIFIED:20260102T195357Z
UID:995-1781337600-1781802000@gtrealtors.org
SUMMARY:NAR REALTOR® Legislative Meetings & Expo (Washington\, DC)
DESCRIPTION:For more details\, click link below. \nhttps://legislative.realtor/trade-expo/
URL:https://gtrealtors.org/event/nar-realtor-legislative-meetings-expo-washington-dc/
LOCATION:Walter E. Washington Convention Center\, 801 Allen Y. Lew Place NW\, Washington\, DC\, 20001\, United States
END:VEVENT
BEGIN:VEVENT
DTSTART;TZID=America/Chicago:20260615T080000
DTEND;TZID=America/Chicago:20260616T170000
DTSTAMP:20260422T172658
CREATED:20260102T195607Z
LAST-MODIFIED:20260102T195607Z
UID:1000-1781510400-1781629200@gtrealtors.org
SUMMARY:REALTORS® Legislative & Trade Expo (Washington\, DC)
DESCRIPTION:For more information\, please click link below. \nhttps://legislative.realtor/trade-expo/
URL:https://gtrealtors.org/event/realtors-legislative-trade-expo-washington-dc/
LOCATION:Walter E. Washington Convention Center\, 801 Allen Y. Lew Place NW\, Washington\, DC\, 20001\, United States
END:VEVENT
BEGIN:VEVENT
DTSTART;TZID=America/Chicago:20260704T080000
DTEND;TZID=America/Chicago:20260704T170000
DTSTAMP:20260422T172658
CREATED:20260102T195722Z
LAST-MODIFIED:20260102T195722Z
UID:1002-1783152000-1783184400@gtrealtors.org
SUMMARY:Independence Day - Association office will be closed
DESCRIPTION:
URL:https://gtrealtors.org/event/independence-day-association-office-will-be-closed/
LOCATION:MS
END:VEVENT
BEGIN:VEVENT
DTSTART;TZID=America/Chicago:20260710T073000
DTEND;TZID=America/Chicago:20260710T170000
DTSTAMP:20260422T172658
CREATED:20260420T170723Z
LAST-MODIFIED:20260420T171217Z
UID:1137-1783668600-1783702800@gtrealtors.org
SUMMARY:2026 GGTR RCSC 1ST ANNUAL GOLF TOURNAMENT (4 Man Scramble)
DESCRIPTION:Come join us for the GGTR RCSC 1st Annual Golf Tournament (4 Man Scramble) on July 10th at 7am at Lion Hills benefitting Sally Kate Winters Family Services.  Shotgun starts at 8am.  More information to follow. \nContact Michelle McGill (662.251.7417) or Shelli McNeil (662.308.3522) to register to play or give a donation.
URL:https://gtrealtors.org/event/2026-ggtr-rcsc-1st-annual-golf-tournament-4-man-scramble/
LOCATION:Lion Hills Center\, 2331 Military Road\, Columbus\, MS\, 39705\, United States
END:VEVENT
BEGIN:VEVENT
DTSTART;TZID=America/Chicago:20260812T114500
DTEND;TZID=America/Chicago:20260812T130000
DTSTAMP:20260422T172658
CREATED:20260102T195926Z
LAST-MODIFIED:20260102T195926Z
UID:1004-1786535100-1786539600@gtrealtors.org
SUMMARY:Membership Luncheon (Recognition of REALTOR® of the Year)
DESCRIPTION:Come Join us!  REALTOR® of the Year will be recognized!
URL:https://gtrealtors.org/event/membership-luncheon-recognition-of-realtor-of-the-year/
LOCATION:Lion Hills Center\, 2331 Military Road\, Columbus\, MS\, 39705\, United States
END:VEVENT
BEGIN:VEVENT
DTSTART;TZID=America/Chicago:20260907T080000
DTEND;TZID=America/Chicago:20260907T170000
DTSTAMP:20260422T172658
CREATED:20260102T200016Z
LAST-MODIFIED:20260102T200016Z
UID:1006-1788768000-1788800400@gtrealtors.org
SUMMARY:Labor Day - Association office will be closed
DESCRIPTION:
URL:https://gtrealtors.org/event/labor-day-association-office-will-be-closed/
LOCATION:MS
END:VEVENT
BEGIN:VEVENT
DTSTART;TZID=America/Chicago:20261012T080000
DTEND;TZID=America/Chicago:20261015T170000
DTSTAMP:20260422T172658
CREATED:20260102T201343Z
LAST-MODIFIED:20260102T201343Z
UID:1015-1791792000-1792083600@gtrealtors.org
SUMMARY:ASSOCIATION OFFICE WILL BE CLOSED TO ATTEND CONVENTION
DESCRIPTION:
URL:https://gtrealtors.org/event/association-office-will-be-closed-to-attend-convention/
LOCATION:MS
END:VEVENT
BEGIN:VEVENT
DTSTART;TZID=America/Chicago:20261013T080000
DTEND;TZID=America/Chicago:20261013T170000
DTSTAMP:20260422T172658
CREATED:20260102T201031Z
LAST-MODIFIED:20260102T201031Z
UID:1011-1791878400-1791910800@gtrealtors.org
SUMMARY:MAR Board of Directors Meeting
DESCRIPTION:The Grand Hotel\, One Grand Boulevard\, Point Clear\, AL 36564\n \nFor more information visit:\n\nhttps://msrealtors.org/\n\n 
URL:https://gtrealtors.org/event/mar-board-of-directors-meeting-5/
LOCATION:The Grand Hotel\, Point Clear\, AL\, One Grand Boulevard\, Point Clear\, AL\, 36564\, United States
END:VEVENT
BEGIN:VEVENT
DTSTART;TZID=America/Chicago:20261013T080000
DTEND;TZID=America/Chicago:20261015T170000
DTSTAMP:20260422T172658
CREATED:20260102T201253Z
LAST-MODIFIED:20260102T201253Z
UID:1013-1791878400-1792083600@gtrealtors.org
SUMMARY:MS REALTORS® Convention & Expo
DESCRIPTION:Association office will be closed October 12 – 15 to attend convention.\n \nThe Grand Hotel\, One Grand Boulevard\, Point Clear\, AL 36564\n \nFor more information visit:\n\nhttps://msrealtors.org/
URL:https://gtrealtors.org/event/ms-realtors-convention-expo/
LOCATION:MS
END:VEVENT
BEGIN:VEVENT
DTSTART;TZID=America/Chicago:20261021T114500
DTEND;TZID=America/Chicago:20261021T130000
DTSTAMP:20260422T172658
CREATED:20260102T201506Z
LAST-MODIFIED:20260107T154755Z
UID:1017-1792583100-1792587600@gtrealtors.org
SUMMARY:Membership Luncheon (Lifetime Achievement Award)
DESCRIPTION:Come join us!  We will be announcing the 2026 Lifetime Achievement Award Recipient.
URL:https://gtrealtors.org/event/membership-luncheon-lifetime-achievement-award/
LOCATION:Lion Hills Center\, 2331 Military Road\, Columbus\, MS\, 39705\, United States
END:VEVENT
BEGIN:VEVENT
DTSTART;TZID=America/Chicago:20261104T080000
DTEND;TZID=America/Chicago:20261109T170000
DTSTAMP:20260422T172658
CREATED:20260102T201829Z
LAST-MODIFIED:20260102T202453Z
UID:1019-1793779200-1794243600@gtrealtors.org
SUMMARY:NAR NXT\, The REALTOR® Experience (New Orleans\, LA)
DESCRIPTION:Save the date!  Join us for NAR NXT 2026\, happening November 6-8\, 2026\, in New Orleans\, LA. Details will be posted as they become available. \nhttps://narnxt.realtor/
URL:https://gtrealtors.org/event/nar-nxt-the-realtor-experience-new-orleans-la/
LOCATION:MS
END:VEVENT
BEGIN:VEVENT
DTSTART;TZID=America/Chicago:20261126T080000
DTEND;TZID=America/Chicago:20261127T170000
DTSTAMP:20260422T172658
CREATED:20260102T201925Z
LAST-MODIFIED:20260102T201925Z
UID:1021-1795680000-1795798800@gtrealtors.org
SUMMARY:Thanksgiving Holiday - Association office will be closed
DESCRIPTION:
URL:https://gtrealtors.org/event/thanksgiving-holiday-association-office-will-be-closed/
LOCATION:MS
END:VEVENT
BEGIN:VEVENT
DTSTART;TZID=America/Chicago:20261209T113000
DTEND;TZID=America/Chicago:20261209T130000
DTSTAMP:20260422T172658
CREATED:20260102T202121Z
LAST-MODIFIED:20260102T202121Z
UID:1023-1796815800-1796821200@gtrealtors.org
SUMMARY:Membership Luncheon (ANNUAL CHRISTMAS TOY DRIVE)
DESCRIPTION:Be sure to mark your calendar to attend.  GGTR Annual Christmas Toy Drive & Installation of 2027 GGTR Officers & Directors
URL:https://gtrealtors.org/event/membership-luncheon-annual-christmas-toy-drive/
LOCATION:Lion Hills Center\, 2331 Military Road\, Columbus\, MS\, 39705\, United States
END:VEVENT
BEGIN:VEVENT
DTSTART;TZID=America/Chicago:20261224T080000
DTEND;TZID=America/Chicago:20261225T170000
DTSTAMP:20260422T172658
CREATED:20260102T202206Z
LAST-MODIFIED:20260102T202220Z
UID:1025-1798099200-1798218000@gtrealtors.org
SUMMARY:CHRISTMAS HOLIDAY - Association office will be closed
DESCRIPTION:Merry Christmas!
URL:https://gtrealtors.org/event/christmas-holiday-association-office-will-be-closed/
LOCATION:MS
END:VEVENT
BEGIN:VEVENT
DTSTART;TZID=America/Chicago:20261231T000000
DTEND;TZID=America/Chicago:20261231T235900
DTSTAMP:20260422T172658
CREATED:20260102T202356Z
LAST-MODIFIED:20260102T202356Z
UID:1028-1798675200-1798761540@gtrealtors.org
SUMMARY:Last Day to Pay Annual Dues Online to Avoid Late Fee
DESCRIPTION:
URL:https://gtrealtors.org/event/last-day-to-pay-annual-dues-online-to-avoid-late-fee/
LOCATION:MS
END:VEVENT
END:VCALENDAR