BEGIN:VCALENDAR
VERSION:2.0
PRODID:-//GGTR - ECPv6.11.2//NONSGML v1.0//EN
CALSCALE:GREGORIAN
METHOD:PUBLISH
X-ORIGINAL-URL:https://gtrealtors.org
X-WR-CALDESC:Events for GGTR
REFRESH-INTERVAL;VALUE=DURATION:PT1H
X-Robots-Tag:noindex
X-PUBLISHED-TTL:PT1H
BEGIN:VTIMEZONE
TZID:America/Chicago
BEGIN:DAYLIGHT
TZOFFSETFROM:-0600
TZOFFSETTO:-0500
TZNAME:CDT
DTSTART:20260308T080000
END:DAYLIGHT
BEGIN:STANDARD
TZOFFSETFROM:-0500
TZOFFSETTO:-0600
TZNAME:CST
DTSTART:20261101T070000
END:STANDARD
END:VTIMEZONE
BEGIN:VEVENT
DTSTART;TZID=America/Chicago:20260423T093000
DTEND;TZID=America/Chicago:20260423T143000
DTSTAMP:20260419T200124
CREATED:20260319T164735Z
LAST-MODIFIED:20260325T164256Z
UID:1107-1776936600-1776954600@gtrealtors.org
SUMMARY:FREE CE FOR GGTR MEMBERS
DESCRIPTION:FREE CE FOR GGTR MEMBER – See Flyer Below\n2 Hours of Contract and 2 Hours of License on April 23rd at Lion Hills from 9:30am – 2:30pm\n(2 Hours of License Law can be used as Elective)\nInstructor: John Phillips\, MREC Investigator \nLunch will be provided\nSPONSOR IS AFFILIATE MEMBER KATHY BRADY WITH TRUSTMARK
URL:https://gtrealtors.org/event/free-ce-for-ggtr-members/
LOCATION:Lion Hills Center\, 2331 Military Road\, Columbus\, MS\, 39705\, United States
END:VEVENT
END:VCALENDAR