BEGIN:VCALENDAR
VERSION:2.0
PRODID:-//GGTR - ECPv6.11.2//NONSGML v1.0//EN
CALSCALE:GREGORIAN
METHOD:PUBLISH
X-ORIGINAL-URL:https://gtrealtors.org
X-WR-CALDESC:Events for GGTR
REFRESH-INTERVAL;VALUE=DURATION:PT1H
X-Robots-Tag:noindex
X-PUBLISHED-TTL:PT1H
BEGIN:VTIMEZONE
TZID:America/Chicago
BEGIN:DAYLIGHT
TZOFFSETFROM:-0600
TZOFFSETTO:-0500
TZNAME:CDT
DTSTART:20260308T080000
END:DAYLIGHT
BEGIN:STANDARD
TZOFFSETFROM:-0500
TZOFFSETTO:-0600
TZNAME:CST
DTSTART:20261101T070000
END:STANDARD
END:VTIMEZONE
BEGIN:VEVENT
DTSTART;TZID=America/Chicago:20260408T090000
DTEND;TZID=America/Chicago:20260408T130000
DTSTAMP:20260419T200045
CREATED:20260102T190723Z
LAST-MODIFIED:20260326T154421Z
UID:981-1775638800-1775653200@gtrealtors.org
SUMMARY:MAR Fair Housing Fair in Jackson - Satisfies 4 Hours of Elective CE and NAR Fair Housing Requirements (2025 - 2027 Cycle)
DESCRIPTION:Satisfies 4 Hours of Elective CE and NAR Fair Housing Requirements for 2025 – 2027 Cycle\nDate: April 8th\nTime:  9:00am – 1:00pm\nInstructor:  Kathy Whitfield\nCost: $59\nClick on link below to register.\nRegister Here for Fair Housing Fair – 2026 \n \n 
URL:https://gtrealtors.org/event/mar-fair-housing-fair-in-jackson-ce-credit/
LOCATION:Mississippi Association of REALTORS®\, 4274 Lakeland Drive\, Flowood\, MS\, 39232\, United States
END:VEVENT
END:VCALENDAR