BEGIN:VCALENDAR
VERSION:2.0
PRODID:-//GGTR - ECPv6.11.2//NONSGML v1.0//EN
CALSCALE:GREGORIAN
METHOD:PUBLISH
X-WR-CALNAME:GGTR
X-ORIGINAL-URL:https://gtrealtors.org
X-WR-CALDESC:Events for GGTR
REFRESH-INTERVAL;VALUE=DURATION:PT1H
X-Robots-Tag:noindex
X-PUBLISHED-TTL:PT1H
BEGIN:VTIMEZONE
TZID:America/Chicago
BEGIN:DAYLIGHT
TZOFFSETFROM:-0600
TZOFFSETTO:-0500
TZNAME:CDT
DTSTART:20260308T080000
END:DAYLIGHT
BEGIN:STANDARD
TZOFFSETFROM:-0500
TZOFFSETTO:-0600
TZNAME:CST
DTSTART:20261101T070000
END:STANDARD
END:VTIMEZONE
BEGIN:VEVENT
DTSTART;TZID=America/Chicago:20260226T080000
DTEND;TZID=America/Chicago:20260226T153000
DTSTAMP:20260419T165033
CREATED:20260102T185551Z
LAST-MODIFIED:20260113T161315Z
UID:976-1772092800-1772119800@gtrealtors.org
SUMMARY:MAR's REALTOR® DAY AT THE CAPITOL and MAR Board of Directors Meeting (Association office will be closed)
DESCRIPTION:Come join us for REALTOR® Day at the Capitol! \nThere is no cost to attend REALTOR® Day at the Capitol and our Legislative Luncheon\, but registration is required so we can have adequate food prepared. \nhttps://msrealtors.org/winter-meeting/
URL:https://gtrealtors.org/event/mars-realtor-day-at-the-capitol-2/
LOCATION:Galloway United Methodist Church Fellowship Center\, 305 N. Congress St\, Jackson\, MS\, 39201\, United States
END:VEVENT
END:VCALENDAR